BEGIN:VCALENDAR
VERSION:2.0
PRODID:-//wp-events-plugin.com//7.2.3.1//EN
TZID:Europe/Berlin
X-WR-TIMEZONE:Europe/Berlin
BEGIN:VEVENT
UID:94@kulturkluengel.de
DTSTART;TZID=Europe/Berlin;VALUE=DATE:20360209
DTEND;TZID=Europe/Berlin;VALUE=DATE:20360210
DTSTAMP:20231130T192843Z
URL:https://www.kulturkluengel.de/veranstaltungen/das-indische-koeln-mit-v
 idya-banakar-incentive/
SUMMARY:Das indische Köln für geschlossene Gruppen
DESCRIPTION:interkulturelle Stadtführung: Indien mit Vidya Banakar \nAuf d
 er Rückseite des Neumarkts ist ein lebendiger kleiner indischer Subkontin
 ent entstanden. „Kalkutta am Rhein“ betitelte es der WDR\, „Indien l
 iegt am Neumarkt“ schrieb der KSTA. Das indische Köln verzaubert seine 
 Besucher. Bei der interkulturellen Wanderung erfahren wir mehr über die M
 enschen\, deren vielseitigen Religionen und Gebräuche\, die Lieferzeiten 
 der frischen Mangos\, das Neueste aus Bollywood\, den Gebrauch von Curry\,
  Turban und Sari. Die aus Bangalore stammende Vidya Banakar führt uns dur
 ch die Läden und Institutionen indischen Lebens in Köln.\n\n\n\n&nbsp\;\
 n\n25 Pax\nab 700€\nauf Anfrage\n
ATTACH;FMTTYPE=image/jpeg:https://www.kulturkluengel.de/wp-content/uploads
 /2016/06/A073414.jpg
CATEGORIES:Firmenveranstaltung
LOCATION:Rautenstrauch-Joest-Museum\, Cäcilienstraße 29-33\, Köln\, Vidy
 a Banakar\, 50667\, Indien\, Deutschland
GEO:50.93481939999999;6.950748699999963
X-APPLE-STRUCTURED-LOCATION;VALUE=URI;X-ADDRESS=Cäcilienstraße 29-33\, K
 öln\, Vidya Banakar\, 50667\, Indien\, Deutschland;X-APPLE-RADIUS=100;X-T
 ITLE=Rautenstrauch-Joest-Museum:geo:50.93481939999999,6.950748699999963
END:VEVENT
BEGIN:VTIMEZONE
TZID:Europe/Berlin
X-LIC-LOCATION:Europe/Berlin
BEGIN:STANDARD
DTSTART:20351028T020000
TZOFFSETFROM:+0200
TZOFFSETTO:+0100
TZNAME:CET
END:STANDARD
END:VTIMEZONE
END:VCALENDAR