BEGIN:VCALENDAR
VERSION:2.0
PRODID:-//wp-events-plugin.com//7.2.3.1//EN
TZID:Europe/Berlin
X-WR-TIMEZONE:Europe/Berlin
BEGIN:VEVENT
UID:488@kulturkluengel.de
DTSTART;TZID=Europe/Berlin:20190223T160000
DTEND;TZID=Europe/Berlin:20190223T190000
DTSTAMP:20190205T190129Z
URL:https://www.kulturkluengel.de/veranstaltungen/indischer-kochkurs-in-bo
 nn-mit-vidya-banakar-12/
SUMMARY:Indischer Kochkurs in Bonn mit Vidya Banakar
DESCRIPTION:Sie sind längst Stammgast im indischen Restaurant ihres Vertra
 uens und wollen nicht länger nur passiv die exotischen Speisen genießen?
  Sie haben schon so viel von der Wirkung indischer Gewürze gehört und m
 öchten endlich mal Genaues wissen? Dann werden Sie aktiv und legen mit Vi
 dya im indischen Kochkurs selber Hand an die Zutaten aus fernen Ländern.\
 n\n\n\n\nLeider schon\nvoll\n
ATTACH;FMTTYPE=image/jpeg:https://www.kulturkluengel.de/wp-content/uploads
 /2016/06/kachel_ind_kochkurs_bonn.jpg
CATEGORIES:Kochkurs
LOCATION:indischer Privathaushalt\, Bad Godesberg\, Bonn\, Vidya Banakar\, 
 Indien\, Deutschland
GEO:50.6783207;7.15424280000002
X-APPLE-STRUCTURED-LOCATION;VALUE=URI;X-ADDRESS=Bad Godesberg\, Bonn\, Vidy
 a Banakar\, Indien\, Deutschland;X-APPLE-RADIUS=100;X-TITLE=indischer Priv
 athaushalt:geo:50.6783207,7.15424280000002
END:VEVENT
BEGIN:VTIMEZONE
TZID:Europe/Berlin
X-LIC-LOCATION:Europe/Berlin
BEGIN:STANDARD
DTSTART:20181028T020000
TZOFFSETFROM:+0200
TZOFFSETTO:+0100
TZNAME:CET
END:STANDARD
END:VTIMEZONE
END:VCALENDAR