BEGIN:VCALENDAR
VERSION:2.0
PRODID:-//wp-events-plugin.com//7.2.3.1//EN
TZID:Europe/Berlin
X-WR-TIMEZONE:Europe/Berlin
BEGIN:VEVENT
UID:469@kulturkluengel.de
DTSTART;TZID=Europe/Berlin:20190412T170000
DTEND;TZID=Europe/Berlin:20190412T200000
DTSTAMP:20190407T095710Z
URL:https://www.kulturkluengel.de/veranstaltungen/koeln-alla-turca-mit-soe
 hret-goek-keupstrasse-10/
SUMMARY:Köln alla Turca mit Şöhret Gök (Keupstraße)
DESCRIPTION:Egal\, wo wir uns in Köln befinden\, türkisch-kölsches Leben
  ist um uns. Mode aus dem hippen Istanbul\, Gemüse vom Basar um die Ecke\
 , Zentral- und Hinterhofmoschee\, dazu verschiedene religiöse Dachverbän
 de: Der türkische Einfluss diverser Volksgruppen ist in Köln an vielen E
 cken spürbar. Bei dieser Kulturwanderung schärft Reiseleiterin Söhret G
 ök bei Stationen zu Körperpflege\, Haushalt und Kulinarik\, sowie einem 
 Türkisch-Crashkurs\, ihren Blick für den Alltag von vielen tausend Einwo
 hnern unserer Stadt.\n\n\n\n\nLeider schon\nvoll\n\n
ATTACH;FMTTYPE=image/jpeg:https://www.kulturkluengel.de/wp-content/uploads
 /2016/06/kachel_keupstrasse.jpg
CATEGORIES:Kulturwanderung
LOCATION:U-Bahn Station "Keupstraße"\, Clevischer Ring 74\, Köln\, Şöhr
 et Gök\, 51063\, Türkei\, Deutschland
GEO:50.9668819;7.006593800000019
X-APPLE-STRUCTURED-LOCATION;VALUE=URI;X-ADDRESS=Clevischer Ring 74\, Köln\
 , Şöhret Gök\, 51063\, Türkei\, Deutschland;X-APPLE-RADIUS=100;X-TITLE
 =U-Bahn Station \"Keupstraße\":geo:50.9668819,7.006593800000019
END:VEVENT
BEGIN:VTIMEZONE
TZID:Europe/Berlin
X-LIC-LOCATION:Europe/Berlin
BEGIN:DAYLIGHT
DTSTART:20190331T030000
TZOFFSETFROM:+0100
TZOFFSETTO:+0200
TZNAME:CEST
END:DAYLIGHT
END:VTIMEZONE
END:VCALENDAR