BEGIN:VCALENDAR
VERSION:2.0
PRODID:-//wp-events-plugin.com//7.2.3.1//EN
TZID:Europe/Berlin
X-WR-TIMEZONE:Europe/Berlin
BEGIN:VEVENT
UID:351@kulturkluengel.de
DTSTART;TZID=Europe/Berlin:20180810T170000
DTEND;TZID=Europe/Berlin:20180810T200000
DTSTAMP:20171220T133916Z
URL:https://www.kulturkluengel.de/veranstaltungen/koeln-alla-turca-mit-soe
 hret-goek-weidengasse-7/
SUMMARY:Köln alla Turca mit Şöhret Gök (Weidengasse)
DESCRIPTION:Egal\, wo wir uns in Köln befinden\, türkisch-kölsches Leben
  ist um uns. Mode aus dem hippen Istanbul\, Gemüse vom Basar um die Ecke\
 , Zentral- und Hinterhofmoschee\, sogar verschiedene muslimische Dachverb
 ände: Der türkische Einfluss diverser Volksgruppen ist in Köln an viele
 n Ecken spürbar. Bei dieser Kulturwanderung schärfen Stationen zu Körpe
 rpflege\, Haushalt und Kulinarik\, sowie ein Türkisch-Crashkurs\, unseren
  Blick für den Alltag von vielen tausend Einwohnern unserer Stadt. \n\n\n
 \n\nTicket buchen\n25€\n
ATTACH;FMTTYPE=image/jpeg:https://www.kulturkluengel.de/wp-content/uploads
 /2016/06/kachel_turca_weidengasse.jpg
CATEGORIES:Kulturwanderung
LOCATION:Weidengasse\, Eigelstein\, Köln\, Şöhret Gök\, 50668\, Türkei
 \, Deutschland
GEO:50.9485731;6.9629492000000255
X-APPLE-STRUCTURED-LOCATION;VALUE=URI;X-ADDRESS=Eigelstein\, Köln\, Şöhr
 et Gök\, 50668\, Türkei\, Deutschland;X-APPLE-RADIUS=100;X-TITLE=Weideng
 asse:geo:50.9485731,6.9629492000000255
END:VEVENT
BEGIN:VTIMEZONE
TZID:Europe/Berlin
X-LIC-LOCATION:Europe/Berlin
BEGIN:DAYLIGHT
DTSTART:20180325T030000
TZOFFSETFROM:+0100
TZOFFSETTO:+0200
TZNAME:CEST
END:DAYLIGHT
END:VTIMEZONE
END:VCALENDAR