BEGIN:VCALENDAR
VERSION:2.0
PRODID:-//wp-events-plugin.com//7.2.3.1//EN
TZID:Europe/Berlin
X-WR-TIMEZONE:Europe/Berlin
BEGIN:VEVENT
UID:49@kulturkluengel.de
DTSTART;TZID=Europe/Berlin;VALUE=DATE:20360209
DTEND;TZID=Europe/Berlin;VALUE=DATE:20360210
DTSTAMP:20231205T235320Z
URL:https://www.kulturkluengel.de/veranstaltungen/koelns-chinatown-mit-tho
 mas-boenig/
SUMMARY:China\, Korea und Japan in Köln für geschlossene Gruppen
DESCRIPTION:interkulturelle Stadtführung mit Kulturklüngel Gründer und l
 angjähriger Asien-Reiseleiter Thomas Bönig.\nDie chinesische Diaspora ha
 t sich auf der ganzen Welt verteilt\, mit Handelsverbindungen ein enges Ne
 tzwerk gestrickt und die Geschichte der Welt auch kulturell erheblich mitg
 estaltet. Schon früh entwickelten sich enge Verbindungen zwischen Köln u
 nd dem Reich der Mitte: der Kölner Adam von Schall war der erste ausländ
 ische Mandarin. Heute ist Peking Partnerstadt von Köln und Düsseldorf ha
 t Partnerstädte in Japan und China. Jährlich werden die Beziehungen wie 
 mit keiner anderen Nation mit Festen\, Messen und Darbietungen zelebriert.
 \n\n\n\n&nbsp\;\n\n25 Pax\nab 700€\nauf Anfrage\n
ATTACH;FMTTYPE=image/jpeg:https://www.kulturkluengel.de/wp-content/uploads
 /2016/07/kachel_china_kulinarisch.jpg
CATEGORIES:Firmenveranstaltung
LOCATION:nach Absprache\, 50674\, Köln\, Thomas Bönig\, China\, Deutschla
 nd
GEO:50.9346454;6.933136500000046
X-APPLE-STRUCTURED-LOCATION;VALUE=URI;X-ADDRESS=50674\, Köln\, Thomas Bön
 ig\, China\, Deutschland;X-APPLE-RADIUS=100;X-TITLE=nach Absprache:geo:50.
 9346454,6.933136500000046
END:VEVENT
BEGIN:VTIMEZONE
TZID:Europe/Berlin
X-LIC-LOCATION:Europe/Berlin
BEGIN:STANDARD
DTSTART:20351028T020000
TZOFFSETFROM:+0200
TZOFFSETTO:+0100
TZNAME:CET
END:STANDARD
END:VTIMEZONE
END:VCALENDAR