BEGIN:VCALENDAR
VERSION:2.0
PRODID:-//wp-events-plugin.com//7.2.3.1//EN
TZID:Europe/Berlin
X-WR-TIMEZONE:Europe/Berlin
BEGIN:VEVENT
UID:889@kulturkluengel.de
DTSTART;TZID=Europe/Berlin:20220721T170000
DTEND;TZID=Europe/Berlin:20220721T200000
DTSTAMP:20220503T174224Z
URL:https://www.kulturkluengel.de/veranstaltungen/kulinarische-weltreise-1
 4/
SUMMARY:Kulinarische Weltreise
DESCRIPTION:... mit Thomas Boenig\n\nDie Esskultur ist in vielen Ländern d
 er Welt wesentlicher Bestandteil des Alltagslebens. Das soziale Leben find
 et rund ums Essen statt. Was könnte es daher besseres geben\, als eine 
 „kulinarische Weltreise“ um andere Sitten und Bräuche kennen zu lerne
 n? Erforschen Sie die vielfältige Welt der exotischen Küchen in mindeste
 ns drei Gängen - Sie bringen lediglich Appetit und Experimentierfreude mi
 t.\n\n\n\n\n\nTicket buchen\n40€\n\n
ATTACH;FMTTYPE=image/jpeg:https://www.kulturkluengel.de/wp-content/uploads
 /2021/09/kw_india_brotfrucht_390-3.jpg
CATEGORIES:Kulinarische Weltreise
LOCATION:Hauptportal der Herz-Jesu Kirche am Zülpicher Platz\, Roonstrasse
 /Zülpicher Platz\, Köln\, Thomas Boenig\, 50674\, Weltreise\, Deutschlan
 d
X-APPLE-STRUCTURED-LOCATION;VALUE=URI;X-ADDRESS=Roonstrasse/Zülpicher Plat
 z\, Köln\, Thomas Boenig\, 50674\, Weltreise\, Deutschland;X-APPLE-RADIUS
 =100;X-TITLE=Hauptportal der Herz-Jesu Kirche am Zülpicher Platz:geo:0,0
END:VEVENT
BEGIN:VTIMEZONE
TZID:Europe/Berlin
X-LIC-LOCATION:Europe/Berlin
BEGIN:DAYLIGHT
DTSTART:20220327T030000
TZOFFSETFROM:+0100
TZOFFSETTO:+0200
TZNAME:CEST
END:DAYLIGHT
END:VTIMEZONE
END:VCALENDAR