BEGIN:VCALENDAR
VERSION:2.0
PRODID:-//wp-events-plugin.com//7.2.3.1//EN
TZID:Europe/Berlin
X-WR-TIMEZONE:Europe/Berlin
BEGIN:VEVENT
UID:1115@kulturkluengel.de
DTSTART;TZID=Europe/Berlin:20240504T150000
DTEND;TZID=Europe/Berlin:20240504T180000
DTSTAMP:20240121T184954Z
URL:https://www.kulturkluengel.de/veranstaltungen/kulinarische-weltreise-i
 n-koeln-15/
SUMMARY:Kulinarische Weltreise in Köln
DESCRIPTION:... mit Ole Stapelfeld\n\nDie Esskultur ist in vielen Ländern 
 der Welt wesentlicher Bestandteil des Alltagslebens. Das soziale Leben fin
 det rund ums Essen statt. Was könnte es daher besseres geben\, als eine 
 „kulinarische Weltreise“ um andere Sitten und Bräuche kennen zu lerne
 n? Erforschen Sie die vielfältige Welt der exotischen Küchen in mindeste
 ns drei Gängen - Sie bringen lediglich Appetit und Experimentierfreude mi
 t.\n\n\n\n\n\nTicket buchen\n45€\n\n
ATTACH;FMTTYPE=image/jpeg:https://www.kulturkluengel.de/wp-content/uploads
 /2021/09/kw_india_brotfrucht_390-3.jpg
CATEGORIES:Kulinarische Weltreise
LOCATION:am Hauptportal der Herz-Jesu-Kirche ( Seite Roonstr.)\, Zülpicher
  Platz /Ronnstrasse\, Köln\, Ole Stapelfeld\, 50674\, Weltreise\, Deutsch
 land
X-APPLE-STRUCTURED-LOCATION;VALUE=URI;X-ADDRESS=Zülpicher Platz /Ronnstras
 se\, Köln\, Ole Stapelfeld\, 50674\, Weltreise\, Deutschland;X-APPLE-RADI
 US=100;X-TITLE=am Hauptportal der Herz-Jesu-Kirche ( Seite Roonstr.):geo:0
 ,0
END:VEVENT
BEGIN:VTIMEZONE
TZID:Europe/Berlin
X-LIC-LOCATION:Europe/Berlin
BEGIN:DAYLIGHT
DTSTART:20240331T030000
TZOFFSETFROM:+0100
TZOFFSETTO:+0200
TZNAME:CEST
END:DAYLIGHT
END:VTIMEZONE
END:VCALENDAR