BEGIN:VCALENDAR
VERSION:2.0
PRODID:-//wp-events-plugin.com//7.2.3.1//EN
TZID:Europe/Berlin
X-WR-TIMEZONE:Europe/Berlin
BEGIN:VEVENT
UID:20@kulturkluengel.de
DTSTART;TZID=Europe/Berlin:20240430T180000
DTEND;TZID=Europe/Berlin:20240430T234500
DTSTAMP:20240329T181057Z
URL:https://www.kulturkluengel.de/veranstaltungen/musikalische-weltreise/
SUMMARY:Musikalische Weltreise
DESCRIPTION:Kulturklüngels größte Stadtführung. Ein indisches Trommel-E
 nsemble und die Rikscha führen die Gruppe durch unsere multikulturelle St
 adt. Auf der Reiseroute sind wir musikalisch unterwegs: Konzerte von Syava
 sh Rastani\, Maryam Akhondi und dem persischen Frauenchor Banu\, Kim Moral
 es und Roman Schock\, die indischen Dhol-Trommler\, mongolischer Obertonge
 sang und die Pferdekopfgeige\, Samson Kidane und die eritreische Krar-Harf
 e.\n\n\n\nTicket buchen\n30€\n
ATTACH;FMTTYPE=image/jpeg:https://www.kulturkluengel.de/wp-content/uploads
 /2016/01/musik.png
CATEGORIES:Kulturwanderung,Signature,Spezial
END:VEVENT
BEGIN:VTIMEZONE
TZID:Europe/Berlin
X-LIC-LOCATION:Europe/Berlin
BEGIN:DAYLIGHT
DTSTART:20240331T030000
TZOFFSETFROM:+0100
TZOFFSETTO:+0200
TZNAME:CEST
END:DAYLIGHT
END:VTIMEZONE
END:VCALENDAR