BEGIN:VCALENDAR
VERSION:2.0
PRODID:-//wp-events-plugin.com//7.2.3.1//EN
TZID:Europe/Berlin
X-WR-TIMEZONE:Europe/Berlin
BEGIN:VEVENT
UID:648@kulturkluengel.de
DTSTART;TZID=Europe/Berlin:20200119T130000
DTEND;TZID=Europe/Berlin:20200119T160000
DTSTAMP:20191105T205628Z
URL:https://www.kulturkluengel.de/veranstaltungen/persischer-kochkurs-mit-
 ninaz-helfrich-4/
SUMMARY:Persischer Kochkurs mit Ninaz Helfrich
DESCRIPTION:Persisch\, eine der ältesten Küchen der Welt\,  die hohe Kuns
 t der perfekten Reiszubereitung\, Es gibt sehr viele phantasievolle Reisge
 richte\, köstliche Eintöpfe und  unwiderstehliche Grillvariationen. Sehr
  beliebt ist die Kombination von saueren und fruchtigen oder auch süßen 
 und herzhaften Speisen. Datteln\, Rosenwasser und  Safran sind garantiert 
 dabei\, wenn Ninaz Helfrich uns ihre Familienrezepte verrät. \n\n\n\n\nLe
 ider schon\nvoll \n
ATTACH;FMTTYPE=image/jpeg:https://www.kulturkluengel.de/wp-content/uploads
 /2018/10/vorschau_1710_pers_kk_14_bearbeitet-1.jpg
CATEGORIES:Kochkurs
LOCATION:Restaurant Mari\, Luxemburger Str. 183\, Köln\, Ninaz Helfrich\, 
 50939\, Persien\, Deutschland
X-APPLE-STRUCTURED-LOCATION;VALUE=URI;X-ADDRESS=Luxemburger Str. 183\, Köl
 n\, Ninaz Helfrich\, 50939\, Persien\, Deutschland;X-APPLE-RADIUS=100;X-TI
 TLE=Restaurant Mari:geo:0,0
END:VEVENT
BEGIN:VTIMEZONE
TZID:Europe/Berlin
X-LIC-LOCATION:Europe/Berlin
BEGIN:STANDARD
DTSTART:20191027T020000
TZOFFSETFROM:+0200
TZOFFSETTO:+0100
TZNAME:CET
END:STANDARD
END:VTIMEZONE
END:VCALENDAR