BEGIN:VCALENDAR
VERSION:2.0
PRODID:-//wp-events-plugin.com//7.2.3.1//EN
TZID:Europe/Berlin
X-WR-TIMEZONE:Europe/Berlin
BEGIN:VEVENT
UID:326@kulturkluengel.de
DTSTART;TZID=Europe/Berlin:20260320T170000
DTEND;TZID=Europe/Berlin:20260320T203000
DTSTAMP:20251104T172935Z
URL:https://www.kulturkluengel.de/veranstaltungen/spezial-habescha-koeln/
SUMMARY:Kulturwanderung Äthiopien und Eritrea
DESCRIPTION:mit Judith Nicola\n\nKomm mit auf diese selten angebotene Tour 
 und treffe die Reiseleiterin Judith\, den Barden Samson Kidane mit seiner 
 Harfe und Degene mit seinen Injeras im Fasika. Du wirst viel über die äl
 teste Christenheit der Welt und das einzige nie kolonialisierte Land Afrik
 as lernen.\n\n\n\n\n\n\nTicket buchen\n30€\n
ATTACH;FMTTYPE=image/jpeg:https://www.kulturkluengel.de/wp-content/uploads
 /2017/11/habescha.jpg
CATEGORIES:Kulturwanderung,Signature,Spezial
LOCATION:Galerie Art of Buna\, Genter Str. 26\, Köln\, Judith Nicola\, 506
 72\, Afrika\, Deutschland
X-APPLE-STRUCTURED-LOCATION;VALUE=URI;X-ADDRESS=Genter Str. 26\, Köln\, Ju
 dith Nicola\, 50672\, Afrika\, Deutschland;X-APPLE-RADIUS=100;X-TITLE=Gale
 rie Art of Buna:geo:0,0
END:VEVENT
BEGIN:VTIMEZONE
TZID:Europe/Berlin
X-LIC-LOCATION:Europe/Berlin
BEGIN:STANDARD
DTSTART:20251026T020000
TZOFFSETFROM:+0200
TZOFFSETTO:+0100
TZNAME:CET
END:STANDARD
END:VTIMEZONE
END:VCALENDAR