BEGIN:VCALENDAR
VERSION:2.0
PRODID:-//wp-events-plugin.com//7.2.3.1//EN
TZID:Europe/Berlin
X-WR-TIMEZONE:Europe/Berlin
BEGIN:VEVENT
UID:17@kulturkluengel.de
DTSTART;TZID=Europe/Berlin;VALUE=DATE:20160413
DTEND;TZID=Europe/Berlin;VALUE=DATE:20160423
DTSTAMP:20160406T171435Z
URL:https://www.kulturkluengel.de/veranstaltungen/testveranstaltung/
SUMMARY:Testveranstaltung
DESCRIPTION:Der Überblick über unsere kommenden Veranstaltungen:\n– Kul
 turwanderungen: regionalspezifische Touren mit Tiefgang und einem prominen
 ten Reiseleiter aus dem bereisten Kulturkreis.\n– Ethnofood – Kulinari
 sche Weltreisen: Stadtrundgänge mit Kostproben aus der exotischen Küche 
 Asiens\, Lateinamerikas und Afrikas.\n– Ethnofood – Kochkurse: Authent
 ische Kurse an Original-Schauplätzen\n– SPEZIAL: Selten oder einmalig s
 tattfindende Veranstaltungen an besonderen Terminen.\n– Radtouren: ab Ap
 ril bis Oktober\n– maßgeschneiderte Veranstaltungen für geschlossene G
 ruppen und Firmen.\n\n\n\nTicket buchen 35€\n\n
ATTACH;FMTTYPE=image/jpeg:https://www.kulturkluengel.de/wp-content/uploads
 /2016/01/fernost_klein.jpg
CATEGORIES:Radtour
LOCATION:Foyer des Rautenstrauch-Joest-Museums\, teststr.\, Köln\, Ursula 
 Loyal\, China\, Deutschland
GEO:50.937531;6.960278600000038
X-APPLE-STRUCTURED-LOCATION;VALUE=URI;X-ADDRESS=teststr.\, Köln\, Ursula L
 oyal\, China\, Deutschland;X-APPLE-RADIUS=100;X-TITLE=Foyer des Rautenstra
 uch-Joest-Museums:geo:50.937531,6.960278600000038
END:VEVENT
BEGIN:VTIMEZONE
TZID:Europe/Berlin
X-LIC-LOCATION:Europe/Berlin
BEGIN:DAYLIGHT
DTSTART:20160327T030000
TZOFFSETFROM:+0100
TZOFFSETTO:+0200
TZNAME:CEST
END:DAYLIGHT
END:VTIMEZONE
END:VCALENDAR