BEGIN:VCALENDAR
VERSION:2.0
PRODID:-//wp-events-plugin.com//7.2.3.1//EN
TZID:Europe/Berlin
X-WR-TIMEZONE:Europe/Berlin
BEGIN:VEVENT
UID:556@kulturkluengel.de
DTSTART;TZID=Europe/Berlin:20190601T110000
DTEND;TZID=Europe/Berlin:20190601T140000
DTSTAMP:20190320T134826Z
URL:https://www.kulturkluengel.de/veranstaltungen/thai-kochkurs-mit-raweew
 an-suwanalai-29/
SUMMARY:Thai-Kochkurs mit Raweewan Suwanalai
DESCRIPTION:Bangkok : Die Hauptstadt von Thailand. Die Stadt deren Name auf
  thailändisch länger ist\, als jeder andere Name einer Stadt in der Welt
 . Treffpunkt verschiedener Esskulturen aus allen Regionen Thailands und de
 n benachbarten Ländern China\, Burma\, Laos und Vietnam. Das bedeutet\, d
 ie Zutaten sind frisch und knackig\, die Saucen sind raffinierte Kombinati
 onen und unsere Kochlehrerin kann sich auf Sie einstellen und ihnen etwas 
 richtig Gutes vermitteln.\n\n\n\n\nLeider schon\nausverkauft\n
ATTACH;FMTTYPE=image/jpeg:https://www.kulturkluengel.de/wp-content/uploads
 /2016/06/kachel_thai_kk.jpg
CATEGORIES:Kochkurs
LOCATION:Seng Heng\, Mauritiussteinweg 75\, Köln\, Raweewan Suwanalai\, 50
 676\, Südostasien\, Deutschland
GEO:50.93424359999999;6.944868499999984
X-APPLE-STRUCTURED-LOCATION;VALUE=URI;X-ADDRESS=Mauritiussteinweg 75\, Köl
 n\, Raweewan Suwanalai\, 50676\, Südostasien\, Deutschland;X-APPLE-RADIUS
 =100;X-TITLE=Seng Heng:geo:50.93424359999999,6.944868499999984
END:VEVENT
BEGIN:VTIMEZONE
TZID:Europe/Berlin
X-LIC-LOCATION:Europe/Berlin
BEGIN:DAYLIGHT
DTSTART:20190331T030000
TZOFFSETFROM:+0100
TZOFFSETTO:+0200
TZNAME:CEST
END:DAYLIGHT
END:VTIMEZONE
END:VCALENDAR