BEGIN:VCALENDAR
VERSION:2.0
PRODID:-//wp-events-plugin.com//7.2.3.1//EN
TZID:Europe/Berlin
X-WR-TIMEZONE:Europe/Berlin
BEGIN:VEVENT
UID:1283@kulturkluengel.de
DTSTART;TZID=Europe/Berlin:20250711T170000
DTEND;TZID=Europe/Berlin:20250711T200000
DTSTAMP:20250210T191630Z
URL:https://www.kulturkluengel.de/veranstaltungen/weltreise-durch-die-eige
 ne-stadt-33/
SUMMARY:Weltreise durch die eigene Stadt
DESCRIPTION:... mit Anahita Redisiu\n\nBei einer Führung durch die Zuwande
 rermilieus gehen Kölner auf Weltreise. Auf dem Weg liegen Musik und Kunst
 \, Vereine und Institutionen\, die besten Geheimtipps aus allen Kontinente
 n.  "Eine Idee\, so naheliegend wie genial" DIE ZEIT\n&nbsp\;\n\n\n\n\nTic
 ket buchen\n30€\n\n
ATTACH;FMTTYPE=image/jpeg:https://www.kulturkluengel.de/wp-content/uploads
 /2016/04/kachel_weltreise.jpg
CATEGORIES:Kulturwanderung
LOCATION:Foyer des Rautensstrauch-Joest-Museums\, Cäcilienstr.29-33\, Koel
 n\, Thomas Boenig\, 50667\, Weltreise\, Deutschland
X-APPLE-STRUCTURED-LOCATION;VALUE=URI;X-ADDRESS=Cäcilienstr.29-33\, Koeln\
 , Thomas Boenig\, 50667\, Weltreise\, Deutschland;X-APPLE-RADIUS=100;X-TIT
 LE=Foyer des Rautensstrauch-Joest-Museums:geo:0,0
END:VEVENT
BEGIN:VTIMEZONE
TZID:Europe/Berlin
X-LIC-LOCATION:Europe/Berlin
BEGIN:DAYLIGHT
DTSTART:20250330T030000
TZOFFSETFROM:+0100
TZOFFSETTO:+0200
TZNAME:CEST
END:DAYLIGHT
END:VTIMEZONE
END:VCALENDAR