BEGIN:VCALENDAR
VERSION:2.0
PRODID:-//wp-events-plugin.com//7.2.3.1//EN
TZID:Europe/Berlin
X-WR-TIMEZONE:Europe/Berlin
BEGIN:VEVENT
UID:43@kulturkluengel.de
DTSTART;TZID=Europe/Berlin:20160618T150000
DTEND;TZID=Europe/Berlin:20160618T193000
DTSTAMP:20160524T141837Z
URL:https://www.kulturkluengel.de/veranstaltungen/weltreise-radtour/
SUMMARY:Weltreise - Radtour
DESCRIPTION:mit Thomas Boenig\n\nBei einer Führung durch die Zuwanderermil
 ieus gehen Kölner auf Weltreise. Auf dem Weg liegen Musik und Kunst\, Ver
 eine und Institutionen\, die besten Geheimtipps aus allen Kontinenten.  \n
 \n\n\nTicket buchen\n25€\n
ATTACH;FMTTYPE=image/jpeg:https://www.kulturkluengel.de/wp-content/uploads
 /2016/05/IMG_6093.jpg
CATEGORIES:Radtour
LOCATION:Radstation ( Breslauer Platz)\, Breslauer Platz\, Köln\, Thomas B
 önig\, 50667\, Weltreise\, Deutschland
GEO:50.9441135;6.959274999999934
X-APPLE-STRUCTURED-LOCATION;VALUE=URI;X-ADDRESS=Breslauer Platz\, Köln\, T
 homas Bönig\, 50667\, Weltreise\, Deutschland;X-APPLE-RADIUS=100;X-TITLE=
 Radstation ( Breslauer Platz):geo:50.9441135,6.959274999999934
END:VEVENT
BEGIN:VTIMEZONE
TZID:Europe/Berlin
X-LIC-LOCATION:Europe/Berlin
BEGIN:DAYLIGHT
DTSTART:20160327T030000
TZOFFSETFROM:+0100
TZOFFSETTO:+0200
TZNAME:CEST
END:DAYLIGHT
END:VTIMEZONE
END:VCALENDAR